BEGIN:VCALENDAR
VERSION:2.0
PRODID:icalendar-ruby
CALSCALE:GREGORIAN
BEGIN:VEVENT
DTSTAMP:20260419T161605Z
UID:69654c31-c5ee-48d6-9153-ee31925fb0be
DTSTART:20260430T150000Z
DTEND:20260430T160000Z
DESCRIPTION:Emotions are powerful tools\, but few of us are taught how to u
 se them. It’s easy to feel trapped\, stuck in overthinking\, or shut dow
 n. And you lose access to creativity and your imagination.\n\nIn this Fiel
 dTrip\, we’ll explore feelings as signals for clarity\, momentum\, and c
 reative output (not as problems to solve).\n\nThis session is for you if y
 ou want to stop wavering between intensity and avoidance\, and start using
  feelings as an asset. Together\, we’ll practice a simple\, repeatable m
 ethod for working with emotions so they can be transformed into insight\, 
 direction\, and creative power.\n\nLet's transform gnarly feelings and cle
 ar the way for the high energy state that unlocks your creative potential.
 \n\nThis is a virtual event\, you will be joining via the link below. This
  link is unique to you please do not share.\nhttps://creativemornings.zoom
 .us/j/89890932356?pwd=TzWNJf9Nq4FCew0htFbAiF3aj69Yae.1
LOCATION:https://creativemornings.zoom.us/j/89890932356?pwd=TzWNJf9Nq4FCew0
 htFbAiF3aj69Yae.1
SUMMARY:CreativeMornings: The Art of Emotional Alchemy
END:VEVENT
END:VCALENDAR
