BEGIN:VCALENDAR
VERSION:2.0
PRODID:icalendar-ruby
CALSCALE:GREGORIAN
BEGIN:VEVENT
DTSTAMP:20260423T052120Z
UID:9b2cfc3a-d3f1-4585-979a-02efe21a942b
DTSTART:20260528T170000Z
DTEND:20260528T180000Z
DESCRIPTION:Discover how to protect yourself on social media in the age of 
 Gen-AI.\n\nMisinformation\, disinformation\, deepfakes and fake profiles a
 re exploding online. It's critical to take a proactive approach to defend 
 yourself whilst remaining active.\n\nThis session covers steps you can tak
 e to stay aware of Gen-AI advancements\, whilst remaining safe at the same
  time.\n\nThis is a virtual event\, you will be joining via the link below
 . This link is unique to you please do not share.\nhttps://creativemorning
 s.zoom.us/j/83831751601?pwd=hqsGlGXXuqabVOG5BU10aiNa3YAdVQ.1
LOCATION:https://creativemornings.zoom.us/j/83831751601?pwd=hqsGlGXXuqabVOG
 5BU10aiNa3YAdVQ.1
SUMMARY:CreativeMornings: Social Media Safety in the Age of Gen-AI
END:VEVENT
END:VCALENDAR
