BEGIN:VCALENDAR
VERSION:2.0
PRODID:icalendar-ruby
CALSCALE:GREGORIAN
BEGIN:VEVENT
DTSTAMP:20260420T125955Z
UID:afc23d6b-6755-46df-b547-acb0ace4e629
DTSTART:20260501T160000Z
DTEND:20260501T170000Z
DESCRIPTION:Release Day is a month-long journey culminating in releasing a 
 creative act on May 29th. This opening session sets the scene\, sparks con
 nection\, and gets you moving from "maybe" to "this is the thing."\n\nWe'l
 l start by digging into 'desire' – the real reason you want to release c
 reative work. Whether it's visibility\, expression\, letting go\, or build
 ing community\, naming this early becomes your north star!\n\nThrough fast
 \, playful prompts\, you'll explore your project from unexpected angles 
 — finding new ways to think about your idea and new language to talk abo
 ut it. Leave with clarity on what you're making and why.\n\nCome with a fu
 lly-formed idea or a vague creative itch – both are welcome.\n\nAnd don
 ’t forget to  sign up to participate in Release Day too!\n\nJoin people 
 around the world releasing their creative projects on our collective deadl
 ine of May 29th. CreativeMornings\, Creative Quests\, and Adobe have teame
 d up to bring you this month-long series of support to help you bring your
  project to life. Learn more and sign up at creativemornings.com/releaseda
 y.\n\nThis is a virtual event\, you will be joining via the link below. Th
 is link is unique to you please do not share.\nhttps://creativemornings.zo
 om.us/j/85833634047?pwd=CBir61sKGTxYUq8pM7Za8WYsAYHwuz.1
LOCATION:https://creativemornings.zoom.us/j/85833634047?pwd=CBir61sKGTxYUq8
 pM7Za8WYsAYHwuz.1
SUMMARY:CreativeMornings: Release Day: Find\, Name & Shape Your Creative Pr
 oject 
END:VEVENT
END:VCALENDAR
