BEGIN:VCALENDAR
VERSION:2.0
PRODID:icalendar-ruby
CALSCALE:GREGORIAN
BEGIN:VEVENT
DTSTAMP:20260419T204454Z
UID:b9b06df4-4831-4a6c-8a5b-ad9920b7efed
DTSTART:20260522T160000Z
DTEND:20260522T170000Z
DESCRIPTION:Your creativity and ideas deserve more than being released via 
 a quick social media post. Relying on the favourability of an algorithm to
  show your work to the world is a sure fire route to disappointment.\n\nWh
 at if we brought the same creativity that we put into our projects into ho
 w we share them?\nIn this session\, we'll help you design a release plan\,
  kicking off May 29\, that both amplifies your work and honours your creat
 ive desires.\n\nWhether it's a gathering for friends\, zines placed around
  town\, a letter to your inner circle\, or a ritual moment in your favouri
 te nature space - we'll help you craft an imaginative release plan that fe
 els meaningful and true to you.\n\nThis is a virtual event\, you will be j
 oining via the link below. This link is unique to you please do not share.
 \nhttps://creativemornings.zoom.us/j/88179993697?pwd=R5xmSFvojXbRTU2mpLt0e
 mJA0Aba0q.1
LOCATION:https://creativemornings.zoom.us/j/88179993697?pwd=R5xmSFvojXbRTU2
 mpLt0emJA0Aba0q.1
SUMMARY:CreativeMornings: Release Day: Design Your Own Release Ritual
END:VEVENT
END:VCALENDAR
