BEGIN:VCALENDAR
VERSION:2.0
PRODID:icalendar-ruby
CALSCALE:GREGORIAN
BEGIN:VEVENT
DTSTAMP:20260419T132232Z
UID:8e226a2a-4ae2-4046-ab9e-5b659d65c633
DTSTART:20260508T160000Z
DTEND:20260508T170000Z
DESCRIPTION:You've established your project for Release Day. Now let's make
  sure it happens!\n\nThis session will turn your spark into a plan that fe
 els joyful\, not obligatory. Starting by taking an imaginary trip to the f
 uture – vividly picturing what it feels like to have released your work 
 on May 29th – before working backwards to map out the month ahead.\n\nTh
 is is no boring to-do list. We want finishing your creative project to fee
 l irresistible. Let's build a game plan that's built around momentum\, joy
 \, and the other releasers on this journey cheering you on.\n\nIf you are 
 already on the road to completion\, this your chance to get inspired by a 
 worldwide cohort of other creatives + add new layers to your release plan.
 \n\nAnd don’t forget to  sign up to participate in Release Day if you ha
 ven’t yet!\n\nJoin people around the world releasing their creative proj
 ects on our collective deadline of May 29th. CreativeMornings\, Creative Q
 uests\, and Adobe have teamed up to bring you this month-long series of su
 pport to help you bring your project to life. Learn more and sign up at cr
 eativemornings.com/releaseday.\n\nThis is a virtual event\, you will be jo
 ining via the link below. This link is unique to you please do not share.\
 nhttps://creativemornings.zoom.us/j/84686592616?pwd=12Hyvc7SGBMbuFZ9adw4G9
 RwofUGVI.1
LOCATION:https://creativemornings.zoom.us/j/84686592616?pwd=12Hyvc7SGBMbuFZ
 9adw4G9RwofUGVI.1
SUMMARY:CreativeMornings: Release Day: Design Your Game Plan & Make it Irre
 sistible
END:VEVENT
END:VCALENDAR
