BEGIN:VCALENDAR
VERSION:2.0
PRODID:icalendar-ruby
CALSCALE:GREGORIAN
BEGIN:VEVENT
DTSTAMP:20260419T174257Z
UID:9442e500-8bf4-42ab-ac54-ae29fce78372
DTSTART:20260515T160000Z
DTEND:20260515T170000Z
DESCRIPTION:Two weeks till Release Day! This session is all about banishing
  creative blocks and crafting compelling narratives.\n\nTogether\, we’ll
  address the big P’s – Yes\, Procrastination &amp\; Perfectionism – 
 face up to them and banish them from our path ahead. Together we’ll ensu
 re that our ideas meet the world.\nOnce our path is clear… You'll learn 
 how to talk about your projects in ways that give them status and intrigue
  (no more apologetic "it's just a hobby" language). \n\nGet fresh perspect
 ives from fellow releasers\, and leave with concrete inspiration and missi
 ons to carry you through the final stretch. \n\nThis is where your project
  becomes something that others can feel! \n\nAnd don’t forget to  sign u
 p to participate in Release Day if you haven’t yet!\n\nThen post a photo
  of your work-in-progress or your work space on Instagram with the hashtag
  #ReleaseDay2026\n\nWe want you to join people around the world releasing 
 their creative projects on our collective deadline of May 29th. CreativeMo
 rnings\, Creative Quests\, and Adobe have teamed up to bring you this mont
 h-long series of support to help you bring your project to life. Learn mor
 e and sign up at creativemornings.com/releaseday.\n\nThis is a virtual eve
 nt\, you will be joining via the link below. This link is unique to you pl
 ease do not share.\nhttps://creativemornings.zoom.us/j/85952793011?pwd=Xso
 SepnJEaOJcXzcAJyKLTfXo5RbRK.1
LOCATION:https://creativemornings.zoom.us/j/85952793011?pwd=XsoSepnJEaOJcXz
 cAJyKLTfXo5RbRK.1
SUMMARY:CreativeMornings: Release Day: Banish Blocks & Tell Your Story
END:VEVENT
END:VCALENDAR
