BEGIN:VCALENDAR
VERSION:2.0
PRODID:icalendar-ruby
CALSCALE:GREGORIAN
BEGIN:VEVENT
DTSTAMP:20260419T150211Z
UID:e4737032-a279-46a8-8d8b-3db165bb81e5
DTSTART:20260506T160000Z
DTEND:20260506T170000Z
DESCRIPTION:23 Days till Release Day! \n\nMake progress on your project alo
 ngside fellow releasers doing the same. This is an hour to block your cale
 ndar and prioritize your creativity.\n\nWe'll start with 5 minutes to chec
 k in and set personal intentions. Then it's 50 minutes of focused making t
 ime – muted\, distraction-free. Whether you're painting\, writing\, drea
 ming\, or something else entirely.\n\nWe'll wrap up by sharing wins and ge
 tting a glimpse of the incredible projects people are releasing on May 29t
 h.\n\nAnd don’t forget to  sign up to participate in Release Day too!\n\
 nJoin people around the world releasing their creative projects on our col
 lective deadline of May 29th. CreativeMornings\, Creative Quests\, and Ado
 be have teamed up to bring you this month-long series of support to help y
 ou bring your project to life. Learn more and sign up at creativemornings.
 com/releaseday.\n\nThis is a virtual event\, you will be joining via the l
 ink below. This link is unique to you please do not share.\nhttps://creati
 vemornings.zoom.us/j/88188573838?pwd=W2aW7Rr6DeOfkapeyx7NNkmbqJyyeP.1
LOCATION:https://creativemornings.zoom.us/j/88188573838?pwd=W2aW7Rr6DeOfkap
 eyx7NNkmbqJyyeP.1
SUMMARY:CreativeMornings: Release Day: Accountability Hour
END:VEVENT
END:VCALENDAR
