BEGIN:VCALENDAR
VERSION:2.0
PRODID:icalendar-ruby
CALSCALE:GREGORIAN
BEGIN:VEVENT
DTSTAMP:20260419T161720Z
UID:f1884da3-873a-4106-84ee-001bff51a64b
DTSTART:20260527T160000Z
DTEND:20260527T170000Z
DESCRIPTION:2 days till Release Day! \n\nMake the final tweaks on your Rele
 ase Day project + get it uploaded to the Release Day gallery - alongside f
 ellow releasers doing the same. This is an hour to block your calendar and
  prioritize your creativity.\n\nWe'll start with 5 minutes to check in and
  set personal intentions. Then it's 40 minutes of focused making time – 
 muted\, distraction-free. Whether you're painting\, writing\, dreaming\, o
 r something else entirely.\n\n10 minutes to close - showing you how to sub
 mit your project to the Release Day 2026 gallery!\n\nThis is a virtual eve
 nt\, you will be joining via the link below. This link is unique to you pl
 ease do not share.\nhttps://creativemornings.zoom.us/j/83066901640?pwd=zLy
 hm17MbTxQDzTnA9yVte6yz5fFxD.1
LOCATION:https://creativemornings.zoom.us/j/83066901640?pwd=zLyhm17MbTxQDzT
 nA9yVte6yz5fFxD.1
SUMMARY:CreativeMornings: Release Day: Accountability Hour
END:VEVENT
END:VCALENDAR
