BEGIN:VCALENDAR
VERSION:2.0
PRODID:icalendar-ruby
CALSCALE:GREGORIAN
BEGIN:VEVENT
DTSTAMP:20260419T174258Z
UID:a90ddbd0-7529-46d7-b4b1-17da898150ce
DTSTART:20260520T160000Z
DTEND:20260520T170000Z
DESCRIPTION:9 Days till Release Day!\n\nMake progress on your project along
 side fellow releasers doing the same. This is an hour to block your calend
 ar and prioritize your creativity.\n\nWe'll start with 5 minutes to check 
 in and set personal intentions. Then it's 50 minutes of focused making tim
 e – muted\, distraction-free. Whether you're painting\, writing\, dreami
 ng\, or something else entirely.\n\nWe'll wrap up by sharing wins and gett
 ing a glimpse of the incredible projects people are releasing on May 29th.
 \n\nSo don’t forget to  sign up to participate in Release Day if you hav
 en’t yet!\n\nThen post a photo of your work-in-progress or your work spa
 ce on Instagram with the hashtag #ReleaseDay2026\n\nWe want you to join pe
 ople around the world releasing their creative projects on our collective 
 deadline of May 29th. CreativeMornings\, Creative Quests\, and Adobe have 
 teamed up to bring you this month-long series of support to help you bring
  your project to life. Learn more and sign up at creativemornings.com/rele
 aseday.\n\nThis is a virtual event\, you will be joining via the link belo
 w. This link is unique to you please do not share.\nhttps://creativemornin
 gs.zoom.us/j/87338765177?pwd=OwnbFEJgwzkJ0rqI5A7t4qmDtmPHez.1
LOCATION:https://creativemornings.zoom.us/j/87338765177?pwd=OwnbFEJgwzkJ0rq
 I5A7t4qmDtmPHez.1
SUMMARY:CreativeMornings: Release Day: Accountability Hour
END:VEVENT
END:VCALENDAR
