BEGIN:VCALENDAR
VERSION:2.0
PRODID:icalendar-ruby
CALSCALE:GREGORIAN
BEGIN:VEVENT
DTSTAMP:20260419T131709Z
UID:a6af611f-cd7d-48cc-bc7b-39c1e5bd12ad
DTSTART:20260529T160000Z
DTEND:20260529T170000Z
DESCRIPTION:You got this! We can’t wait to see what you create!\n\nBy reg
 istering on this page\, you’re making a commitment to release a creative
  project on Release Day on May 29th. \n\nAnd we’re here to support you o
 n the road to Release Day with tips\, motivation\, and accountability to h
 elp you bring your project to life. \n\nAfter you register\, check your in
 box for:\n\n\nA confirmation email.\nA weekly series of emails (starting o
 n April 27th) with encouraging tips and details on a special series of coh
 ort-style Virtual FieldTrips you can join for accountability and support.\
 n An invitation to join our private online space to connect with your fell
 ow “releasers” (hosted on the Dark Forest Operating System!)\n\nAll mo
 nth long\, we’ll be cheering each other on! \n\nWhat to do on Release Da
 y:\n\nOn May 29th\, post a photo of your personal creative project on Inst
 agram with the hashtag #ReleaseDay2026 to be featured on the gallery wall 
 on the landing page. \n\nAnd tag @adobe\, @creative.quests\, and @creative
 morning for a chance to be reposted! \n\n(You’ll also be able to upload 
 your photo directly to the gallery wall at creativemornings.com/releaseday
 .)\n\nIt can be small. It can be unfinished. It just has to be yours.\n\nJ
 oin us for a virtual celebration on Release Day! \n\nOn Friday\, May 29 at
  12:00 p.m. – 1:00 p.m. EDT\, we’ll meet on Zoom to share what we’ve
  created and cheer each other on. It’s optional\, but we hope to see you
  there. (You’ll get a zoom link in your confirmation email and calendar 
 invite.)\n\nThis is a virtual event\, you will be joining via the link bel
 ow. This link is unique to you please do not share.\nhttps://creativemorni
 ngs.zoom.us/j/85032838929?pwd=aQbtWHFcATISEGB7XaXwRqhH9vSsIg.1
LOCATION:https://creativemornings.zoom.us/j/85032838929?pwd=aQbtWHFcATISEGB
 7XaXwRqhH9vSsIg.1
SUMMARY:CreativeMornings: Release Day: Register to participate in a month-l
 ong celebration of creating
END:VEVENT
END:VCALENDAR
