BEGIN:VCALENDAR
VERSION:2.0
PRODID:icalendar-ruby
CALSCALE:GREGORIAN
BEGIN:VEVENT
DTSTAMP:20260421T232617Z
UID:277b2c5f-9e25-4480-adf0-a87577c75ce2
DTSTART:20260422T210000Z
DTEND:20260422T220000Z
DESCRIPTION:Want less stress or more focus? \nWant to optimize your energy 
 for more flow and less burnout? \n\nExperience Korean Qigong is a gentle y
 et powerful somatic mindfulness practice that helps you release stress\, c
 lear the mind\, and replenish your energy for the day. \n\nWhether you wan
 t to destress\, detox\, or simply feel more grounded\, this energizing cla
 ss will leave you feeling calm\, clear\, and revitalized.\n\nAfter the cla
 ss\, you will:\n\n\nStrengthen your core and increase mobility\nRelease ne
 gative energy and feel lighter\nRelax your mind and body\, feeling calm an
 d grounded\n\nThis is a virtual event\, you will be joining via the link b
 elow. This link is unique to you please do not share.\nhttps://creativemor
 nings.zoom.us/j/81319545790?pwd=Hc0bwN0xeGebpPqrkaJLm6yyLSdhjf.1
LOCATION:https://creativemornings.zoom.us/j/81319545790?pwd=Hc0bwN0xeGebpPq
 rkaJLm6yyLSdhjf.1
SUMMARY:CreativeMornings: Qigong: Move\, Recharge\, and Reset
END:VEVENT
END:VCALENDAR
