BEGIN:VCALENDAR
VERSION:2.0
PRODID:icalendar-ruby
CALSCALE:GREGORIAN
BEGIN:VEVENT
DTSTAMP:20260419T161609Z
UID:12923d52-4d53-4276-b6da-f31b21197b3f
DTSTART:20260512T150000Z
DTEND:20260512T160000Z
DESCRIPTION:In this special Creative Mornings FieldTrip\, award-winning cre
 ative director and designer Rich Tu will share his creative journey beginn
 ing as an editorial illustrator to a successful career providing creative 
 direction for global campaigns and working with brands such as Nike\, FIFA
 \, MTV\, Paramount\, HOKA\, and the WNBA\, among others.\n\nIn addition\, 
 as May's highlighted artist for "Do What You Love"\, Rich will will share 
 his creative process for the DWYL project\, and how he ideates illustrativ
 e typography.\n\n  .mobile-image {\n    width: 204px\; /* Desktop size: 70
 % larger than 120px */\n    height: auto\;\n    display: block\;\n    bord
 er-radius: 8px\;\n    margin: 0 auto\;\n  }\n\n@media only screen and (max
 -width: 600px) {\n    .stack-column {\n      display: block !important\;\n
       width: 100% !important\;\n    }\n    .stack-column td {\n      displ
 ay: block !important\;\n      width: 100% !important\;\n    }\n    .mobile
 -image {\n      width: 260px !important\;  /* Optional: 27% larger again o
 n mobile */\n      margin: 0 auto 20px auto !important\;\n    }\n  }\n\n&l
 t\;!-- Image Column --&gt\;\n      \n        \n      \n\n  &lt\;!-- Text C
 olumn --&gt\;\n  &lt\;td valign="top" style="width: 67%\; font-family: Ari
 al\, sans-serif\; font-size: 14px\; line-height: 1.5\; color: #333333\;"&g
 t\;\n    &lt\;small&gt\;\n      &lt\;b&gt\;\n        ⭐️ This FieldTrip
  is part of our\n        &lt\;a href="https://creativemornings.com/blog/ad
 obe-level-up" style="color:#000\;text-decoration:underline\;"&gt\;\n      
     Level Up Series&lt\;/a&gt\; with Adobe!\n      &lt\;/b&gt\;\n      &lt
 \;br&gt\;&lt\;br&gt\;\n      This FieldTrip is a part of Level Up\, a seri
 es of FieldTrips and resources designed to help you grow\, gain confidence
 \, and take meaningful next steps in your creative career. This series is 
 made possible by CreativeMornings’ global partnership with \n      &lt\;
 a href="https://www.adobe.com/creativecloud.html?sdid=3SH19X87&amp\;mv=aff
 iliate" style="color:#000\;text-decoration:underline\;"&gt\;\n        Adob
 e&lt\;/a&gt\;. Learn more about the program and upcoming FieldTrips and \n
       &lt\;a href="https://creativemornings.com/blog/adobe-level-up" style
 ="color:#000\;text-decoration:underline\;"&gt\;\n        check out more wa
 ys to Level Up&lt\;/a&gt\;.\n    &lt\;/small&gt\;\n  &lt\;/td&gt\;\n&lt\;/
 tr&gt\;\n\nThis is a virtual event\, you will be joining via the link belo
 w. This link is unique to you please do not share.\nhttps://creativemornin
 gs.zoom.us/j/89158497305?pwd=WNsucgKww8AhgsvOzJ3euQPbVFVKpN.1
LOCATION:https://creativemornings.zoom.us/j/89158497305?pwd=WNsucgKww8Ahgsv
 OzJ3euQPbVFVKpN.1
SUMMARY:CreativeMornings: LEVEL UP: The Power of Doing What You Love
END:VEVENT
END:VCALENDAR
