BEGIN:VCALENDAR
VERSION:2.0
PRODID:icalendar-ruby
CALSCALE:GREGORIAN
BEGIN:VEVENT
DTSTAMP:20260419T121819Z
UID:d96693fd-ce3d-4d0a-8847-88b23f90fbb9
DTSTART:20260526T160000Z
DTEND:20260526T170000Z
DESCRIPTION:In this session\, I’ll show you how to take your creative pro
 ject and actually get it seen (without it feeling awkward or salesy). \n\n
 We’ll focus on three simple workflows using Adobe Express: creating scro
 ll-stopping visuals\, turning your process into content\, and sharing your
  “thing” in a way that feels natural and you.\n\nThis is a do-it-with-
 me session\, so you’ll build as we go and leave with ready-to-use conten
 t for your Release Day.\n\nBring a project (half-finished totally counts)\
 , and a willingness to give it a little hype.\n\n.mobile-image {\n    widt
 h: 204px\; /* Desktop size: 70% larger than 120px */\n    height: auto\;\n
     display: block\;\n    border-radius: 8px\;\n    margin: 0 auto\;\n  }\
 n\n@media only screen and (max-width: 600px) {\n    .stack-column {\n     
  display: block !important\;\n      width: 100% !important\;\n    }\n    .
 stack-column td {\n      display: block !important\;\n      width: 100% !i
 mportant\;\n    }\n    .mobile-image {\n      width: 260px !important\;  /
 * Optional: 27% larger again on mobile */\n      margin: 0 auto 20px auto 
 !important\;\n    }\n  }\n\n&lt\;!-- Image Column --&gt\;\n      \n       
  \n      \n\n  &lt\;!-- Text Column --&gt\;\n  &lt\;td valign="top" style=
 "width: 67%\; font-family: Arial\, sans-serif\; font-size: 14px\; line-hei
 ght: 1.5\; color: #333333\;"&gt\;\n    &lt\;small&gt\;\n      &lt\;b&gt\;\
 n        ⭐️ This FieldTrip is part of our\n        &lt\;a href="https:
 //creativemornings.com/levelup" style="color:#000\;text-decoration:underli
 ne\;"&gt\;\n          Level Up Series&lt\;/a&gt\; with Adobe!\n      &lt\;
 /b&gt\;\n      &lt\;br&gt\;&lt\;br&gt\;\n      This FieldTrip is a part of
  Level Up\, a series of FieldTrips and resources designed to help you grow
 \, gain confidence\, and take meaningful next steps in your creative caree
 r. This series is made possible by CreativeMornings’ global partnership 
 with \n      &lt\;a href="https://www.adobe.com/?sdid=1XGJCNG1&amp\;mv=par
 tner" style="color:#000\;text-decoration:underline\;"&gt\;\n        Adobe&
 lt\;/a&gt\;. Learn more about the program and upcoming FieldTrips and \n  
     &lt\;a href="https://creativemornings.com/levelup" style="color:#000\;
 text-decoration:underline\;"&gt\;\n        check out more ways to Level Up
 &lt\;/a&gt\;.\n    &lt\;/small&gt\;\n  &lt\;/td&gt\;\n&lt\;/tr&gt\;\n\nThi
 s is a virtual event\, you will be joining via the link below. This link i
 s unique to you please do not share.\nhttps://creativemornings.zoom.us/j/8
 7151876064?pwd=ynxCHASA6Li3mcaGgzScaNSB5bLggw.1
LOCATION:https://creativemornings.zoom.us/j/87151876064?pwd=ynxCHASA6Li3mca
 GgzScaNSB5bLggw.1
SUMMARY:CreativeMornings: LEVEL UP: Creative and Fun Ways to Promote your 
 ’Thing’
END:VEVENT
END:VCALENDAR
