BEGIN:VCALENDAR
VERSION:2.0
PRODID:icalendar-ruby
CALSCALE:GREGORIAN
BEGIN:VEVENT
DTSTAMP:20260425T035515Z
UID:e5f7aede-fddf-45bb-a91d-8341610c2e7b
DTSTART:20260430T170000Z
DTEND:20260430T180000Z
DESCRIPTION:AI is reshaping how videos get made\, and it's not all generati
 ve. Knowing where it actually fits in your workflow is a different questio
 n.\n\nIn this session\, we'll explore practical ways to use AI in every st
 ep of the filmmaking process\, from storyboarding and moodboarding with Fi
 refly Boards\, to faster edits in Premiere\, to sound mix and color.\n\nEx
 pect a mix of live demos and practical tips. You'll leave with tools worth
  trying on your next project and a sharper sense of when AI helps (and whe
 n it doesn't).\n\n.mobile-image {\n    width: 204px\; /* Desktop size: 70%
  larger than 120px */\n    height: auto\;\n    display: block\;\n    borde
 r-radius: 8px\;\n    margin: 0 auto\;\n  }\n\n@media only screen and (max-
 width: 600px) {\n    .stack-column {\n      display: block !important\;\n 
      width: 100% !important\;\n    }\n    .stack-column td {\n      displa
 y: block !important\;\n      width: 100% !important\;\n    }\n    .mobile-
 image {\n      width: 260px !important\;  /* Optional: 27% larger again on
  mobile */\n      margin: 0 auto 20px auto !important\;\n    }\n  }\n\n&lt
 \;!-- Image Column --&gt\;\n      \n        \n      \n\n  &lt\;!-- Text Co
 lumn --&gt\;\n  &lt\;td valign="top" style="width: 67%\; font-family: Aria
 l\, sans-serif\; font-size: 14px\; line-height: 1.5\; color: #333333\;"&gt
 \;\n    &lt\;small&gt\;\n      &lt\;b&gt\;\n        ⭐️ This FieldTrip 
 is part of our\n        &lt\;a href="https://creativemornings.com/blog/ado
 be-level-up" style="color:#000\;text-decoration:underline\;"&gt\;\n       
    Level Up Series\n        &lt\;/a&gt\; with Adobe!\n      &lt\;/b&gt\;\n
       &lt\;br&gt\;&lt\;br&gt\;\n      This FieldTrip is a part of Level Up
 \, a series of FieldTrips and resources designed to help you grow\, gain c
 onfidence\, and take meaningful next steps in your creative career. This s
 eries is made possible by CreativeMornings’ global partnership with \n  
     &lt\;a href="https://www.adobe.com/creativecloud.html?sdid=3SH19X87&am
 p\;mv=affiliate" style="color:#000\;text-decoration:underline\;"&gt\;\n   
      Adobe\n      &lt\;/a&gt\;. Learn more about the program and upcoming 
 FieldTrips and \n      &lt\;a href="https://creativemornings.com/blog/adob
 e-level-up" style="color:#000\;text-decoration:underline\;"&gt\;\n        
 check out more ways to Level Up\n      &lt\;/a&gt\;.\n    &lt\;/small&gt\;
 \n  &lt\;/td&gt\;\n&lt\;/tr&gt\;\n\nThis is a virtual event\, you will be 
 joining via the link below. This link is unique to you please do not share
 .\nhttps://creativemornings.zoom.us/j/82349965622?pwd=0HSdaBQDdDMRlbCO3c9f
 43DkuOPFtN.1
LOCATION:https://creativemornings.zoom.us/j/82349965622?pwd=0HSdaBQDdDMRlbC
 O3c9f43DkuOPFtN.1
SUMMARY:CreativeMornings: LEVEL UP: AI Tools for Video Creation
END:VEVENT
END:VCALENDAR
