BEGIN:VCALENDAR
VERSION:2.0
PRODID:icalendar-ruby
CALSCALE:GREGORIAN
BEGIN:VEVENT
DTSTAMP:20260423T184221Z
UID:37f4ef39-6abb-46e9-a473-a5f9c817a760
DTSTART:20260429T160000Z
DTEND:20260429T170000Z
DESCRIPTION:AI has made creating content faster than ever\, but it has also
  made brands sound the same. Across platforms and industries\, businesses 
 are starting to look and read alike\, making it harder to stand out and be
  remembered.\n\nIn this FieldTrip\, we’ll break down how to build a bran
 d that is trustworthy\, captivating\, and unmistakably you\, even in an AI
 -saturated world. You’ll learn what differentiates a brand today and how
  to avoid blending into the growing sea of AI-generated sameness without r
 ejecting the technology.\n\nThis is a virtual event\, you will be joining 
 via the link below. This link is unique to you please do not share.\nhttps
 ://creativemornings.zoom.us/j/82383610667?pwd=FXZhNA3pqMzFIe1bX6tsK5fwTAc8
 Ws.1
LOCATION:https://creativemornings.zoom.us/j/82383610667?pwd=FXZhNA3pqMzFIe1
 bX6tsK5fwTAc8Ws.1
SUMMARY:CreativeMornings: How to Build a Brand That Can’t Be Replicated b
 y AI
END:VEVENT
END:VCALENDAR
