BEGIN:VCALENDAR
VERSION:2.0
PRODID:icalendar-ruby
CALSCALE:GREGORIAN
BEGIN:VEVENT
DTSTAMP:20260419T132230Z
UID:e500906e-713f-4655-9def-92c463bd46aa
DTSTART:20260505T170000Z
DTEND:20260505T180000Z
DESCRIPTION:Maybe you’re feeling a bit squashy about AI busting into our 
 marketing careers (me too). When something is new\, it always feels a lot 
 better to build a solid understanding of how it works\, what it can do\, w
 hat it can’t do\, and how you can use it to make your life easier.\n\nIn
  this FieldTrip we’ll dive into the details on how language models like 
 ChatGPT work\, and how they can be used in marketing— not to replace any
 one\, but to make your life a heck of a lot easier\, and how to get starte
 d.\n\nThis is a virtual event\, you will be joining via the link below. Th
 is link is unique to you please do not share.\nhttps://creativemornings.zo
 om.us/j/82948341771?pwd=iM80wigEZqGQG1QBbYah4lfFt4kp2M.1
LOCATION:https://creativemornings.zoom.us/j/82948341771?pwd=iM80wigEZqGQG1Q
 BbYah4lfFt4kp2M.1
SUMMARY:CreativeMornings: Faking Human - A Guide To Using AI In Your Market
 ing
END:VEVENT
END:VCALENDAR
