BEGIN:VCALENDAR
VERSION:2.0
PRODID:icalendar-ruby
CALSCALE:GREGORIAN
BEGIN:VEVENT
DTSTAMP:20260420T041531Z
UID:02587892-3d8b-4d8a-9e22-28ccfc009b3d
DTSTART:20260507T173000Z
DTEND:20260507T183000Z
DESCRIPTION:If you're a crafter\, you probably have a "good stash" that you
  keep meaning to use... but haven't. Yet.\n\nYou know\, the special fabric
 \, the fancy yarn\, the pristine notebook you keep holding onto for someda
 y?  Bring it to this meetup. Today is the day to use the good stuff!\n\nTh
 ink of this as your chance to use up your good stash with a supportive gro
 up of crafters who are doing the same! Give yourself an hour to make time 
 for your craft and yourself.\n\nYou can start a new project or continue wi
 th a work-in-progress. You'll have a chance to share what you're working o
 n in a judgement-free space and hopefully\, meet new crafty friends!\n\nAn
 y and all types and levels of craft are welcome.\n\nThis is a virtual even
 t\, you will be joining via the link below. This link is unique to you ple
 ase do not share.\nhttps://creativemornings.zoom.us/j/89405275630?pwd=3B7O
 uW4SybAUV1aZ3zOk0KGWW1vjw2.1
LOCATION:https://creativemornings.zoom.us/j/89405275630?pwd=3B7OuW4SybAUV1a
 Z3zOk0KGWW1vjw2.1
SUMMARY:CreativeMornings: Craft with Your Stash Hangout
END:VEVENT
END:VCALENDAR
