BEGIN:VCALENDAR
VERSION:2.0
PRODID:icalendar-ruby
CALSCALE:GREGORIAN
BEGIN:VEVENT
DTSTAMP:20260419T161050Z
UID:d22db447-7b25-474d-bf04-7ecbab3f2bde
DTSTART:20260508T000000Z
DTEND:20260508T010000Z
DESCRIPTION:In a chaotic world\, there’s something deeply compelling abou
 t people who clearly live what they stand for. \n\nParticipants will uncov
 er their unique core values and explore how living them can guide decision
 s\, priorities\, and inspire trust in others. This FieldTrip includes guid
 ed journaling\, self-reflection\, and a core values inventory to help you 
 find your North Star and develop a process that brings clarity\, turns val
 ues into action\, and inspires trust\, connection\, and followership in ot
 hers. \n\nYou’ll also leave with three practical exercises to continue r
 efining and living your values beyond the session.\n\nThis is a virtual ev
 ent\, you will be joining via the link below. This link is unique to you p
 lease do not share.\nhttps://creativemornings.zoom.us/j/81230030417?pwd=Wz
 WWqkMbCRhH1tpm88afEiiaB4IbQo.1
LOCATION:https://creativemornings.zoom.us/j/81230030417?pwd=WzWWqkMbCRhH1tp
 m88afEiiaB4IbQo.1
SUMMARY:CreativeMornings: Core Values That Inspire
END:VEVENT
END:VCALENDAR
