BEGIN:VCALENDAR
VERSION:2.0
PRODID:icalendar-ruby
CALSCALE:GREGORIAN
BEGIN:VEVENT
DTSTAMP:20260420T042155Z
UID:21dce90f-90b7-46ff-9003-5fd7cc8aeb37
DTSTART:20260428T213000Z
DTEND:20260428T223000Z
DESCRIPTION:❤️ Connect &amp\; Reflect is a mixer designed to bring the 
 CreativeMornings community together around our monthly global themes.\n\n
 ✨What's a Global Theme?✨\nEach month\, CreativeMornings chapters explo
 re a theme chosen by a chapter from around the world—something broad eno
 ugh to spark conversation\, and specific enough to invite personal reflect
 ion. Whether you’ve joined a local event or tuned into a FieldTrip\, thi
 s is your chance to dive deeper with fellow creative humans.\n\nDuring thi
 s FieldTrip\, co-hosted by Lauren Deborah and Alexis Fakouri we’ll offer
  a few gentle prompts to get your thoughts flowing\, then break into small
  groups to reflect on what came up. You might leave with a fresh insight\,
  a new friend—or both.\n\n🔥April’s theme is: EMBER. The literal mea
 ning of ember is a small piece of burning or glowing coal or wood in a dyi
 ng fire. But as a metaphor\, it means so much more. 🔥\n\nThis is a virt
 ual event\, you will be joining via the link below. This link is unique to
  you please do not share.\nhttps://creativemornings.zoom.us/j/81088054462?
 pwd=ZFfJ8ffYkEjheeAP4T1tUbnrfCYuQM.1
LOCATION:https://creativemornings.zoom.us/j/81088054462?pwd=ZFfJ8ffYkEjheeA
 P4T1tUbnrfCYuQM.1
SUMMARY:CreativeMornings: Connect + Reflect: A CreativeMornings Mixer on Ap
 ril's Theme\, EMBER 
END:VEVENT
END:VCALENDAR
