BEGIN:VCALENDAR
VERSION:2.0
PRODID:icalendar-ruby
CALSCALE:GREGORIAN
BEGIN:VEVENT
DTSTAMP:20260419T204509Z
UID:8e63d972-1b52-4273-a698-8786fc92555e
DTSTART:20260513T010000Z
DTEND:20260513T020000Z
DESCRIPTION:If your best ideas come in the shower\, while driving\, or when
  you “least expect it”—you might feel elation in these moments\, but
  also a sadness that this experience is not more predictable.\n\nIt turns 
 out\, imagination and intuition run on the same wiring\, and psychic pract
 ices can also help you make inspired art. \n\nAfter this session\, you’l
 l walk away with a new definition for why making art can feel so magical
 —as well as essential for your well-being. You’ll learn a framework fo
 r divine inspiration that you can integrate into your craft. \n\nBring you
 r playful curiosity and one current creative challenge.\n\nThis is a virtu
 al event\, you will be joining via the link below. This link is unique to 
 you please do not share.\nhttps://creativemornings.zoom.us/j/86920442631?p
 wd=eh8E5WXcfdf9O5ZZG6YxT6mXWWYakU.1
LOCATION:https://creativemornings.zoom.us/j/86920442631?pwd=eh8E5WXcfdf9O5Z
 ZG6YxT6mXWWYakU.1
SUMMARY:CreativeMornings: Channeling Creativity: Learn A Mystical Practice 
 For Making Art
END:VEVENT
END:VCALENDAR
