BEGIN:VCALENDAR
VERSION:2.0
PRODID:icalendar-ruby
CALSCALE:GREGORIAN
BEGIN:VEVENT
DTSTAMP:20260423T183640Z
UID:49b5b26f-0842-4350-9cc9-eb26de5da048
DTSTART:20260428T153000Z
DTEND:20260428T163000Z
DESCRIPTION:Hustle culture tells us to be "on" all the time.\n\nBut nature 
 doesn't work that way\; it has seasons for planting\, growing\, harvesting
 \, and resting.\n\nSo does your business.\n\nMost solopreneurs burn out be
 cause they're trying to be in constant summer\, but sustainable businesses
  honor natural rhythms: high-energy seasons and low-energy seasons\, times
  to experiment and times to maintain\, periods of growth and\nperiods of r
 est.\n\nIn this hands-on workshop\, you'll identify when your energy natur
 ally peaks and dips\, when your industry has busy and slow periods\, and w
 hen life demands more or less from you. Then you'll create a visual season
 al plan that works with these rhythms instead of against them.\n\nThis is 
 a virtual event\, you will be joining via the link below. This link is uni
 que to you please do not share.\nhttps://creativemornings.zoom.us/j/840563
 50311?pwd=qwPY6cORHB6M9TmhRbpqPogmtW1jRP.1
LOCATION:https://creativemornings.zoom.us/j/84056350311?pwd=qwPY6cORHB6M9Tm
 hRbpqPogmtW1jRP.1
SUMMARY:CreativeMornings: Business Seasons: Working With Your Natural Rhyth
 ms
END:VEVENT
END:VCALENDAR
